BEGIN:VCALENDAR
VERSION:2.0
PRODID:-//GoFarm Hawaii - ECPv6.15.20//NONSGML v1.0//EN
CALSCALE:GREGORIAN
METHOD:PUBLISH
X-WR-CALNAME:GoFarm Hawaii
X-ORIGINAL-URL:https://gofarmhawaii.org
X-WR-CALDESC:Events for GoFarm Hawaii
REFRESH-INTERVAL;VALUE=DURATION:PT1H
X-Robots-Tag:noindex
X-PUBLISHED-TTL:PT1H
BEGIN:VTIMEZONE
TZID:Pacific/Honolulu
BEGIN:STANDARD
TZOFFSETFROM:-1000
TZOFFSETTO:-1000
TZNAME:HST
DTSTART:20250101T000000
END:STANDARD
END:VTIMEZONE
BEGIN:VEVENT
DTSTART;TZID=Pacific/Honolulu:20260420T173000
DTEND;TZID=Pacific/Honolulu:20260420T190000
DTSTAMP:20260420T081616
CREATED:20260326T201646Z
LAST-MODIFIED:20260414T225301Z
UID:8282-1776706200-1776711600@gofarmhawaii.org
SUMMARY:🚜 Planning for the Future: Farm Succession and Land Transition
DESCRIPTION:This webinar will introduce: \n\nKey concepts in farm succession planning \nTools for transferring land & farm businesses\nResources available to Hawaiʻi farmers & landowners\n\nRegister here
URL:https://gofarmhawaii.org/event/planning-for-the-future-farm-succession-and-land-transition/
LOCATION:Zoom
END:VEVENT
BEGIN:VEVENT
DTSTART;TZID=Pacific/Honolulu:20260423T090000
DTEND;TZID=Pacific/Honolulu:20260423T130000
DTSTAMP:20260420T081616
CREATED:20260414T224942Z
LAST-MODIFIED:20260414T224942Z
UID:8381-1776934800-1776949200@gofarmhawaii.org
SUMMARY:🌎 Earth Day 2026
DESCRIPTION:🌎 Earth Day 2026  \nThursday\, April 23  \nFrom 9a-1p \nAt our Waimānalo\, Oʻahu Training Site \n\nDirections provided to those that are registered\n\nOpen to the public (ages 12+): \n\nIf minors are in attendance\, they must be accompanied by an adult and have a signed waiver by their guardian. Please email us for the waiver (info@gofarmhawaii.org)\n\nWHAT WILL WE BE DOING: \n\nBreaking down farm plots + weather damaged structures\, pruning\, composting\, mulching trees\, weeding\, clearing buffer zones\, cleaning banana plants\, setting up lei flower fields\, weeding fields\, planting\, and more!\n\nAGENDA: \n\n8:45a – Arrival (park + get situated)\n9-9:30a – Intros & Welcome\n9:30-10:15a – Farm tour\n10:30a-12:15p – Hana! (Work)\n12:15-1p – Lunch & Connect (lunch provided by GFH)\n\nWHAT TO BRING (If you have): \n\nCleaned + Sanitized – hand snips\, hand saws\, loppers\, shovels\, pitch forks\, 5 gallon buckets (to move mulch and compost around)*Clean tools help keep a clean and disease free farm\nWater – we have a refill station at the farm site\nUV protective clothing – long sleeve shirt\, pants\, a hat\nClosed toe shoes are mandatory
URL:https://gofarmhawaii.org/event/%f0%9f%8c%8e-earth-day-2026/
LOCATION:Waimanalo Research Station
END:VEVENT
BEGIN:VEVENT
DTSTART;TZID=Pacific/Honolulu:20260427T173000
DTEND;TZID=Pacific/Honolulu:20260427T190000
DTSTAMP:20260420T081616
CREATED:20260326T202203Z
LAST-MODIFIED:20260414T225210Z
UID:8287-1777311000-1777316400@gofarmhawaii.org
SUMMARY:💧 Managing Water Risk: Irrigation Strategies and Technology for Efficient Water Use
DESCRIPTION:Learn about:\n\nPractical water conservation strategies\nIrrigation technologies such as sensors\, timers\, and automated systems\nHow to reduce water use\, save labor\, and improve overall farm efficiency\nDecision tools developed to evaluate irrigation upgrades and backup water systems\n\n\nRegister for webinar here
URL:https://gofarmhawaii.org/event/managing-water-risk-irrigation-strategies-and-technology-for-efficient-water-use/
LOCATION:Zoom
END:VEVENT
BEGIN:VEVENT
DTSTART;TZID=Pacific/Honolulu:20260721T173000
DTEND;TZID=Pacific/Honolulu:20260721T190000
DTSTAMP:20260420T081616
CREATED:20260303T232445Z
LAST-MODIFIED:20260330T214715Z
UID:8234-1784655000-1784660400@gofarmhawaii.org
SUMMARY:Waimānalo\, Oʻahu AgCurious
DESCRIPTION:Want to learn more about the GoFarm Hawaiʻi training program at our Waimānalo\, Oʻahu site? \nRegister now for our AgCurious Informational Webinar! \n  \n  \n  \nWhat to expect: \n– Overview of the program \n– Participant expectations \n– Application process & next steps \n– Q&A with the farm coach & alumni
URL:https://gofarmhawaii.org/event/waimanalo-agcurious/
LOCATION:Zoom
END:VEVENT
BEGIN:VEVENT
DTSTART;TZID=Pacific/Honolulu:20260728T173000
DTEND;TZID=Pacific/Honolulu:20260728T190000
DTSTAMP:20260420T081616
CREATED:20260303T231633Z
LAST-MODIFIED:20260330T214627Z
UID:8229-1785259800-1785265200@gofarmhawaii.org
SUMMARY:North Shore\, Oʻahu AgCurious
DESCRIPTION:Want to learn more about the GoFarm Hawaiʻi training program at our North Shore\, Oʻahu site? \nRegister now for our AgCurious Informational Webinar! \n[REGISTER HERE] \n  \n  \n  \nWhat to expect: \n\nOverview of the program\nParticipant expectations\nApplication process & next steps\nQ&A with the farm coach & alumni
URL:https://gofarmhawaii.org/event/north-shore-agcurious/
LOCATION:Zoom
END:VEVENT
BEGIN:VEVENT
DTSTART;TZID=Pacific/Honolulu:20260903T173000
DTEND;TZID=Pacific/Honolulu:20260903T190000
DTSTAMP:20260420T081616
CREATED:20260303T232628Z
LAST-MODIFIED:20260330T214457Z
UID:8238-1788456600-1788462000@gofarmhawaii.org
SUMMARY:Maui AgCurious
DESCRIPTION:Want to learn more about the GoFarm Hawaiʻi training program at our Maui site? \nRegister now for our AgCurious Informational Webinar! \n  \n  \n  \n  \nWhat to expect: \n\nOverview of the program\nParticipant expectations\nApplication process & next steps\nQ&A with the farm coach & alumni
URL:https://gofarmhawaii.org/event/maui-agcurious/
LOCATION:Zoom
END:VEVENT
END:VCALENDAR